BEGIN:VCALENDAR
VERSION:2.0
PRODID:-//Call to Prayer as a Nation - ECPv6.15.18//NONSGML v1.0//EN
CALSCALE:GREGORIAN
METHOD:PUBLISH
X-WR-CALNAME:Call to Prayer as a Nation
X-ORIGINAL-URL:https://calltoprayerasanation.com
X-WR-CALDESC:Events for Call to Prayer as a Nation
REFRESH-INTERVAL;VALUE=DURATION:PT1H
X-Robots-Tag:noindex
X-PUBLISHED-TTL:PT1H
BEGIN:VTIMEZONE
TZID:UTC
BEGIN:STANDARD
TZOFFSETFROM:+0000
TZOFFSETTO:+0000
TZNAME:UTC
DTSTART:20240101T000000
END:STANDARD
END:VTIMEZONE
BEGIN:VEVENT
DTSTART;TZID=UTC:20250911T203000
DTEND;TZID=UTC:20250911T220000
DTSTAMP:20260423T094903
CREATED:20250822T220223Z
LAST-MODIFIED:20250822T220223Z
UID:10000011-1757622600-1757628000@calltoprayerasanation.com
SUMMARY:The Time is Now Podcast
DESCRIPTION:Youtube
URL:https://calltoprayerasanation.com/event/the-time-is-now-podcast-6/
CATEGORIES:UPCOMING EVENTS
LOCATION:
END:VEVENT
END:VCALENDAR