BEGIN:VCALENDAR
VERSION:2.0
PRODID:-//Call to Prayer as a Nation - ECPv6.15.18//NONSGML v1.0//EN
CALSCALE:GREGORIAN
METHOD:PUBLISH
X-ORIGINAL-URL:https://calltoprayerasanation.com
X-WR-CALDESC:Events for Call to Prayer as a Nation
REFRESH-INTERVAL;VALUE=DURATION:PT1H
X-Robots-Tag:noindex
X-PUBLISHED-TTL:PT1H
BEGIN:VTIMEZONE
TZID:UTC
BEGIN:STANDARD
TZOFFSETFROM:+0000
TZOFFSETTO:+0000
TZNAME:UTC
DTSTART:20240101T000000
END:STANDARD
END:VTIMEZONE
BEGIN:VEVENT
DTSTART;TZID=UTC:20251222T080000
DTEND;TZID=UTC:20251222T110000
DTSTAMP:20260423T113241
CREATED:20251114T182310Z
LAST-MODIFIED:20251114T182310Z
UID:10000024-1766390400-1766401200@calltoprayerasanation.com
SUMMARY:Tiktok live
DESCRIPTION:Tiktok
URL:https://calltoprayerasanation.com/event/tiktok-live-11/
CATEGORIES:UPCOMING EVENTS
LOCATION:
END:VEVENT
BEGIN:VEVENT
DTSTART;TZID=UTC:20251224T080000
DTEND;TZID=UTC:20251224T110000
DTSTAMP:20260423T113241
CREATED:20251114T182358Z
LAST-MODIFIED:20251114T182358Z
UID:10000025-1766563200-1766574000@calltoprayerasanation.com
SUMMARY:Tiktok live
DESCRIPTION:Tiktok
URL:https://calltoprayerasanation.com/event/tiktok-live-12/
CATEGORIES:UPCOMING EVENTS
LOCATION:
END:VEVENT
BEGIN:VEVENT
DTSTART;TZID=UTC:20251229T080000
DTEND;TZID=UTC:20251229T110000
DTSTAMP:20260423T113241
CREATED:20251114T182442Z
LAST-MODIFIED:20251114T182442Z
UID:10000026-1766995200-1767006000@calltoprayerasanation.com
SUMMARY:Tiktok live
DESCRIPTION:Tiktok
URL:https://calltoprayerasanation.com/event/tiktok-live-13/
CATEGORIES:UPCOMING EVENTS
LOCATION:
END:VEVENT
BEGIN:VEVENT
DTSTART;TZID=UTC:20260402T150000
DTEND;TZID=UTC:20260402T150000
DTSTAMP:20260423T113241
CREATED:20260330T211511Z
LAST-MODIFIED:20260330T221144Z
UID:10000028-1775142000-1775142000@calltoprayerasanation.com
SUMMARY:6 Days of Prayer Begins April 2
DESCRIPTION:[vc_row type=”full_width_background” full_screen_row_position=”middle” column_margin=”default” column_direction=”default” column_direction_tablet=”default” column_direction_phone=”default” scene_position=”center” text_color=”dark” text_align=”left” row_border_radius=”none” row_border_radius_applies=”bg” overflow=”visible” id=”eventsec1″ overlay_strength=”0.3″ gradient_direction=”left_to_right” shape_divider_position=”bottom” bg_image_animation=”none” gradient_type=”default” shape_type=””][vc_column column_padding=”no-extra-padding” column_padding_tablet=”inherit” column_padding_phone=”inherit” column_padding_position=”all” column_element_direction_desktop=”default” column_element_spacing=”default” desktop_text_alignment=”default” tablet_text_alignment=”default” phone_text_alignment=”default” background_color_opacity=”1″ background_hover_color_opacity=”1″ column_backdrop_filter=”none” column_shadow=”none” column_border_radius=”none” column_link_target=”_self” column_position=”default” gradient_direction=”left_to_right” overlay_strength=”0.3″ width=”1/1″ tablet_width_inherit=”default” animation_type=”default” bg_image_animation=”none” border_type=”simple” column_border_width=”none” column_border_style=”solid”][vc_column_text css=”” text_direction=”default”]\nLive at 3 PM Pacific Time | Monday through Saturday\nBelievers across the nation are coming together in one moment of prayer. \nOne moment.\nOne nation.\nOne prayer. \nWHAT THIS IS\nA Daily National Call to Prayer \nStarting April 2\, this prayer movement will take place live across all social media platforms. \nEvery day\, Monday through Saturday\, at 3 PM Pacific Time\, we are asking believers everywhere to do one simple thing: \nStop and pray. \nSome will be watching live.\nSome will pray on their own.\nSome will gather with others. \nBut at that moment\, we are united as one body in Christ. \nHOW IT WORKS\nHow to Join \nWherever you are at 3 PM Pacific Time: \n\nStop what you are doing\nBow your head\nPray with us live or on your own\nLift up others before God\n\nYou can join: \n\nfrom your home\nfrom work\nfrom your car\nfrom church\nfrom wherever you are\n\nThis movement is simple so the whole nation can take part. \nWhat We Are Praying For\nThis is not about asking for things for ourselves. \nThis is about: \n\nthanking God for His mercy and grace\nasking for forgiveness\nturning back to Him\npraying for others\npraying for this nation\n\nCan we all agree Jesus died to save us?\nThen let’s come together on that truth and pray as one. \nOne God. One Jesus. One Spirit. One Bible. \nJesus is the Head.\nWe are the body of Christ. \nThis movement is a call for believers across all denominations to come together in unity before God. \nNo division.\nNo barriers.\nJust the body of Christ… praying as one nation. \nThe Vision\nThis is just the beginning. \nWe will continue daily\, live across social media\, until believers across the nation come together as one. \nThe goal is clear: \nTo see the whole nation stop and pray together at the same time. \nThis is more than an event.\nThis is a movement. \nBe Part of the Call \nEvery day.\nMonday through Saturday.\n3 PM Pacific Time. \nStop.\nBow your head.\nPray.[/vc_column_text][/vc_column][/vc_row]
URL:https://calltoprayerasanation.com/event/6-days-of-prayer-begins-april-2/
CATEGORIES:UPCOMING EVENTS
ATTACH;FMTTYPE=image/png:https://calltoprayerasanation.com/wp-content/uploads/2025/07/Group-1597884966-1.png
END:VEVENT
END:VCALENDAR