BEGIN:VCALENDAR
VERSION:2.0
PRODID:-//Call to Prayer as a Nation - ECPv6.15.18//NONSGML v1.0//EN
CALSCALE:GREGORIAN
METHOD:PUBLISH
X-WR-CALNAME:Call to Prayer as a Nation
X-ORIGINAL-URL:https://calltoprayerasanation.com
X-WR-CALDESC:Events for Call to Prayer as a Nation
REFRESH-INTERVAL;VALUE=DURATION:PT1H
X-Robots-Tag:noindex
X-PUBLISHED-TTL:PT1H
BEGIN:VTIMEZONE
TZID:UTC
BEGIN:STANDARD
TZOFFSETFROM:+0000
TZOFFSETTO:+0000
TZNAME:UTC
DTSTART:20240101T000000
END:STANDARD
END:VTIMEZONE
BEGIN:VEVENT
DTSTART;TZID=UTC:20250816T123000
DTEND;TZID=UTC:20250816T153000
DTSTAMP:20260422T230726
CREATED:20250711T185513Z
LAST-MODIFIED:20250717T170741Z
UID:10000006-1755347400-1755358200@calltoprayerasanation.com
SUMMARY:CALL TO PRAYER AS A NATION
DESCRIPTION:PLACE STADIUM TBA
URL:https://calltoprayerasanation.com/event/call-to-prayer-as-a-nation/
LOCATION:STADIUM
CATEGORIES:UPCOMING EVENTS
END:VEVENT
BEGIN:VEVENT
DTSTART;TZID=UTC:20250814T203000
DTEND;TZID=UTC:20250814T230000
DTSTAMP:20260422T230726
CREATED:20250711T185703Z
LAST-MODIFIED:20250714T215500Z
UID:10000007-1755203400-1755212400@calltoprayerasanation.com
SUMMARY:The Time is Now Podcast
DESCRIPTION:Youtube
URL:https://calltoprayerasanation.com/event/the-time-is-now-podcast-2/
CATEGORIES:UPCOMING EVENTS
LOCATION:
END:VEVENT
BEGIN:VEVENT
DTSTART;TZID=UTC:20250807T203000
DTEND;TZID=UTC:20250807T220000
DTSTAMP:20260422T230726
CREATED:20250711T185342Z
LAST-MODIFIED:20250717T200406Z
UID:10000005-1754598600-1754604000@calltoprayerasanation.com
SUMMARY:The Time is Now Podcast
DESCRIPTION:Youtube
URL:https://calltoprayerasanation.com/event/the-time-is-now-podcast/
CATEGORIES:UPCOMING EVENTS
LOCATION:
END:VEVENT
END:VCALENDAR